BEGIN:VCALENDAR
VERSION:2.0
PRODID:-//ChamberMaster//Event Calendar 2.0//EN
METHOD:PUBLISH
X-PUBLISHED-TTL:P3D
REFRESH-INTERVAL:P3D
CALSCALE:GREGORIAN
BEGIN:VEVENT
DTSTART;VALUE=DATE:20130328
DTEND;VALUE=DATE:20130329
TRANSP:TRANSPARENT
X-MICROSOFT-CDO-ALLDAYEVENT:TRUE
SUMMARY:Third Annual Chili Bowl Cook off and Oyster Roast
DESCRIPTION:Third Annual Chili  Bowl Cook off and Oyster Roast
X-ALT-DESC;FMTTYPE=text/html:Third Annual Chili&nbsp\; Bowl Cook off and Oyster Roast 
LOCATION:Colleton County Museum and Farmers Market
UID:e.528.473
SEQUENCE:3
DTSTAMP:20260422T110910Z
URL:https://business.colletonchamber.org/events/details/third-annual-chili-bowl-cook-off-and-oyster-roast-03-28-2013-473
END:VEVENT

END:VCALENDAR
