BEGIN:VCALENDAR
VERSION:2.0
PRODID:-//ChamberMaster//Event Calendar 2.0//EN
METHOD:PUBLISH
X-PUBLISHED-TTL:P3D
REFRESH-INTERVAL:P3D
CALSCALE:GREGORIAN
BEGIN:VEVENT
DTSTART;VALUE=DATE:20110625
DTEND;VALUE=DATE:20110626
TRANSP:TRANSPARENT
X-MICROSOFT-CDO-ALLDAYEVENT:TRUE
SUMMARY:Tomato Open Golf Tournament
DESCRIPTION:Golf Tournament\n\nSponsored by the Edisto Island Open Land Trust
X-ALT-DESC;FMTTYPE=text/html:Golf Tournament\n<br>Sponsored by the Edisto Island Open Land Trust
LOCATION:Plantation Course at Edisto
UID:e.528.263
SEQUENCE:3
DTSTAMP:20260423T181744Z
URL:https://business.colletonchamber.org/events/details/tomato-open-golf-tournament-06-25-2011-263
END:VEVENT

END:VCALENDAR
