BEGIN:VCALENDAR
VERSION:2.0
PRODID:-//ChamberMaster//Event Calendar 2.0//EN
METHOD:PUBLISH
X-PUBLISHED-TTL:P3D
REFRESH-INTERVAL:P3D
CALSCALE:GREGORIAN
BEGIN:VEVENT
DTSTART;VALUE=DATE:20110624
DTEND;VALUE=DATE:20110625
TRANSP:TRANSPARENT
X-MICROSOFT-CDO-ALLDAYEVENT:TRUE
SUMMARY:Tomato Open Golf Tournament Party and Live Auction
DESCRIPTION:Party and Live Auction\n\nSponsored by the Edisto Island Open Lane Trust
X-ALT-DESC;FMTTYPE=text/html:Party and Live Auction\n<br>Sponsored by the Edisto Island Open Lane Trust
LOCATION:Plantation Course at Edisto
UID:e.528.262
SEQUENCE:3
DTSTAMP:20260423T170832Z
URL:https://business.colletonchamber.org/events/details/tomato-open-golf-tournament-party-and-live-auction-06-24-2011-262
END:VEVENT

END:VCALENDAR
