BEGIN:VCALENDAR
VERSION:2.0
PRODID:-//ChamberMaster//Event Calendar 2.0//EN
METHOD:PUBLISH
X-PUBLISHED-TTL:P3D
REFRESH-INTERVAL:P3D
CALSCALE:GREGORIAN
BEGIN:VEVENT
DTSTART;VALUE=DATE:20121006
DTEND;VALUE=DATE:20121007
TRANSP:TRANSPARENT
X-MICROSOFT-CDO-ALLDAYEVENT:TRUE
SUMMARY:Tractor Supply Soft Opening
DESCRIPTION:
X-ALT-DESC;FMTTYPE=text/html:
LOCATION:
UID:e.528.386
SEQUENCE:3
DTSTAMP:20260422T183804Z
URL:https://business.colletonchamber.org/events/details/tractor-supply-soft-opening-10-06-2012-386
END:VEVENT

END:VCALENDAR
