BEGIN:VCALENDAR
VERSION:2.0
PRODID:-//ChamberMaster//Event Calendar 2.0//EN
METHOD:PUBLISH
X-PUBLISHED-TTL:P3D
REFRESH-INTERVAL:P3D
CALSCALE:GREGORIAN
BEGIN:VEVENT
DTSTART:20110212T223000Z
DTEND:20110213T010000Z
X-MICROSOFT-CDO-ALLDAYEVENT:FALSE
SUMMARY:Valentine Extravaganza
DESCRIPTION:Valentine Extravaganza\n\n	 \n\n	The Thunderbolt Career and Technology Center - Culinary Arts Department will host a Three Course Valentine Dinner and their first Silent Auction.\n\n	\n\n	\n\n	All proceeds benefit the Thunderbolt Career and Technology Center's student competitions and clubs for spring 2011.
X-ALT-DESC;FMTTYPE=text/html:<p style="text-align: center">\n	<span style="font-family: comic sans ms"><span style="font-size: 16px">Valentine Extravaganza</span></span><br />\n	&nbsp\;</p>\n<p>\n	<span style="font-family: comic sans ms"><span style="font-size: 16px"><span style="font-size: 12px"><span style="font-family: times new roman">The Thunderbolt Career and Technology Center - Culinary Arts Department will&nbsp\;host a Three Course&nbsp\;Valentine Dinner and their first Silent Auction.<br />\n	<br />\n	<br />\n	All proceeds benefit the Thunderbolt Career and Technology Center&#39\;s student competitions and clubs for&nbsp\;spring 2011.&nbsp\;</span></span></span></span></p>\n<p>\n	<br />\n	&nbsp\;</p>\n<p>\n	&nbsp\;</p>
LOCATION:1069 Thunderbolt Drive Walterboro\, SC
UID:e.528.250
SEQUENCE:3
DTSTAMP:20260423T221500Z
URL:https://business.colletonchamber.org/events/details/valentine-extravaganza-02-12-2011-250
END:VEVENT

END:VCALENDAR
