BEGIN:VCALENDAR
VERSION:2.0
PRODID:-//ChamberMaster//Event Calendar 2.0//EN
METHOD:PUBLISH
X-PUBLISHED-TTL:P3D
REFRESH-INTERVAL:P3D
CALSCALE:GREGORIAN
BEGIN:VEVENT
DTSTART:20130527T130000Z
DTEND:20130527T160000Z
X-MICROSOFT-CDO-ALLDAYEVENT:FALSE
SUMMARY:Veterans-Memorial Day at the Waterfall
DESCRIPTION:Memorial Day Celebration honoring our service men and women.
X-ALT-DESC;FMTTYPE=text/html:Memorial Day Celebration honoring our service men and women.
LOCATION:Downtown at the Waterfall
UID:e.528.490
SEQUENCE:3
DTSTAMP:20260422T082844Z
URL:https://business.colletonchamber.org/events/details/veterans-memorial-day-at-the-waterfall-05-27-2013-490
END:VEVENT

END:VCALENDAR
