BEGIN:VCALENDAR
VERSION:2.0
PRODID:-//ChamberMaster//Event Calendar 2.0//EN
METHOD:PUBLISH
X-PUBLISHED-TTL:P3D
REFRESH-INTERVAL:P3D
CALSCALE:GREGORIAN
BEGIN:VEVENT
DTSTART:20101204T000000Z
DTEND:20101204T020000Z
X-MICROSOFT-CDO-ALLDAYEVENT:FALSE
SUMMARY:Voices of Christmas
DESCRIPTION:Voices of Christmas\n\n	A musical of Prophecy\, Promise\, and Praise\n\n	\n\n	presented by the \n\n	\n\n	Walterboro Community Choir
X-ALT-DESC;FMTTYPE=text/html:<p style="text-align: center">\n	<span style="font-size: 24px"><span style="font-family: times new roman"><span style="font-size: 36px">Voices of Christmas</span><br />\n	<span style="font-size: 20px"><em>A musical of Prophecy\, Promise\, and Praise</em><br />\n	<br />\n	<span style="font-size: 14px">presented by the </span><br />\n	<br />\n	Walterboro Community Choir</span></span></span><br />\n	<br />\n	&nbsp\;</p>\n
LOCATION:First Baptist Church 124 South Memorial Avenue
UID:e.528.218
SEQUENCE:3
DTSTAMP:20260424T010556Z
URL:https://business.colletonchamber.org/events/details/voices-of-christmas-12-03-2010-218
END:VEVENT

END:VCALENDAR
