BEGIN:VCALENDAR
VERSION:2.0
PRODID:-//ChamberMaster//Event Calendar 2.0//EN
METHOD:PUBLISH
X-PUBLISHED-TTL:P3D
REFRESH-INTERVAL:P3D
CALSCALE:GREGORIAN
BEGIN:VEVENT
DTSTART:20111203T000000Z
DTEND:20111203T020000Z
X-MICROSOFT-CDO-ALLDAYEVENT:FALSE
SUMMARY:Voices of Colleton Community Choir
DESCRIPTION:The Spirit of Christmas musical program presented by Voices of Colleton Community choir.\n\nTwo performances: Thurs\, Dec. 1 @ 7 PM and Fri.\, Dec. 2 @ 7 PM. Call 549-1180 for info.
X-ALT-DESC;FMTTYPE=text/html:The Spirit of Christmas musical program presented by Voices of Colleton Community choir.<br />\nTwo performances: Thurs\, Dec. 1 @ 7 PM and Fri.\, Dec. 2 @ 7 PM. Call 549-1180 for info.
LOCATION:First Baptist Church\, 124 S. Memorial Avenue
UID:e.528.299
SEQUENCE:3
DTSTAMP:20260423T084046Z
URL:https://business.colletonchamber.org/events/details/voices-of-colleton-community-choir-12-02-2011-299
END:VEVENT

END:VCALENDAR
