BEGIN:VCALENDAR
VERSION:2.0
PRODID:-//ChamberMaster//Event Calendar 2.0//EN
METHOD:PUBLISH
X-PUBLISHED-TTL:P3D
REFRESH-INTERVAL:P3D
CALSCALE:GREGORIAN
BEGIN:VEVENT
DTSTART:20121201T000000Z
DTEND:20121201T020000Z
X-MICROSOFT-CDO-ALLDAYEVENT:FALSE
SUMMARY:Voices of Colleton Community Choir Christmas Program
DESCRIPTION:Christmas musical program presented by the Voices of Colleton Community Choir. For the family.
X-ALT-DESC;FMTTYPE=text/html:<p>\n	Christmas musical program presented by the Voices of Colleton Community Choir. For the family.</p>\n
LOCATION:First Baptist Church\, 124 S. Memorial Avenue\, Walterboro\, SC 29488
UID:e.528.409
SEQUENCE:3
DTSTAMP:20260422T171212Z
URL:https://business.colletonchamber.org/events/details/voices-of-colleton-community-choir-christmas-program-11-30-2012-409
END:VEVENT

END:VCALENDAR
