BEGIN:VCALENDAR
VERSION:2.0
PRODID:-//ChamberMaster//Event Calendar 2.0//EN
METHOD:PUBLISH
X-PUBLISHED-TTL:P3D
REFRESH-INTERVAL:P3D
CALSCALE:GREGORIAN
BEGIN:VEVENT
DTSTART:20121024T130000Z
DTEND:20121024T200000Z
X-MICROSOFT-CDO-ALLDAYEVENT:FALSE
SUMMARY:Volunteer Summit
DESCRIPTION:You are invited to join us for a special day of learning and sharing at the VOLUNTEER SUMMIT on October 24 from 9:00-4:30 at the Colleton Center in Walterboro.  Informative and entertaining facilitators will keep the day interactive and informal as we explore volunteerism.  Plan to leave with some new ideas designed to make you think differently about how you recruit and use volunteers.  A small fee will be assessed to cover the cost of a morning "eye opener"\, lunch and snacks.  Just click the link below to register now. Registration is limited so hurry and secure your spot!\n\n	\n		 \n	\n		\n			http://unitedwaybch.ezregister.com/\n	\n	\n		\n			 \n	\n	\n		\n			SEE YOU THERE!
X-ALT-DESC;FMTTYPE=text/html:<p class="MsoNormal" style="margin: 0px\; font-family: arial\, sans-serif\; font-size: 13px">\n	You are invited to join us for a special day of learning and sharing at the VOLUNTEER SUMMIT on October 24 from 9:00-4:30 at the Colleton Center in Walterboro. &nbsp\;Informative and entertaining facilitators will keep the day interactive and informal as we explore volunteerism.&nbsp\; Plan to leave with some new ideas designed to make you think differently about how you recruit and use volunteers. &nbsp\;A small fee will be assessed to cover the cost of a morning &quot\;eye opener&quot\;\, lunch and snacks. &nbsp\;Just click the link below to register now. Registration is limited so hurry and secure your spot!</p>\n<div style="font-family: arial\, sans-serif\; font-size: 13px">\n	<p class="MsoNormal" style="margin: 0px">\n		&nbsp\;</p>\n	<div>\n		<p class="MsoNormal" style="margin: 0px">\n			<a href="http://unitedwaybch.ezregister.com/" style="color: rgb(17\,85\,204)" target="_blank">http://unitedwaybch.<wbr>ezregister.com/</wbr></a></p>\n	</div>\n	<div>\n		<p class="MsoNormal" style="margin: 0px">\n			&nbsp\;</p>\n	</div>\n	<div>\n		<p class="MsoNormal" style="margin: 0px">\n			SEE YOU THERE!</p>\n	</div>\n</div>\n
LOCATION:The Gallery at the Colleton Center 494 Hampton Street
UID:e.528.414
SEQUENCE:3
DTSTAMP:20260422T183719Z
URL:https://business.colletonchamber.org/events/details/volunteer-summit-10-24-2012-414
END:VEVENT

END:VCALENDAR
