BEGIN:VCALENDAR
VERSION:2.0
PRODID:-//ChamberMaster//Event Calendar 2.0//EN
METHOD:PUBLISH
X-PUBLISHED-TTL:P3D
REFRESH-INTERVAL:P3D
CALSCALE:GREGORIAN
BEGIN:VEVENT
DTSTART:20130420T130000Z
DTEND:20130420T160000Z
X-MICROSOFT-CDO-ALLDAYEVENT:FALSE
SUMMARY:Walk through the Walterboro Wildlife Sanctuary
DESCRIPTION:Walk through the Walterboro Wildlife Sanctuary with Master Gardner Genia Floyd!
X-ALT-DESC;FMTTYPE=text/html:Walk through the Walterboro Wildlife Sanctuary with Master Gardner Genia Floyd!
LOCATION:The walk through begins at 9:00 a.m. at the DeTreville entrance.
UID:e.528.476
SEQUENCE:3
DTSTAMP:20260422T095209Z
URL:https://business.colletonchamber.org/events/details/walk-through-the-walterboro-wildlife-sanctuary-04-20-2013-476
END:VEVENT

END:VCALENDAR
