BEGIN:VCALENDAR
VERSION:2.0
PRODID:-//ChamberMaster//Event Calendar 2.0//EN
METHOD:PUBLISH
X-PUBLISHED-TTL:P3D
REFRESH-INTERVAL:P3D
CALSCALE:GREGORIAN
BEGIN:VEVENT
DTSTART:20130309T140000Z
DTEND:20130309T170000Z
X-MICROSOFT-CDO-ALLDAYEVENT:FALSE
SUMMARY:Walk Through the Wildlife Sanctuary with Professor Erin Kilpatrick
DESCRIPTION:Walk through the Wildlife Sanctuary with USC Salkehatchie biology Professor Erin Kilpatrick.\n\nEnjoy the beauty of our own Wildlife Sanctuary with the knowledge of Professor Kilpatrick as your guide!
X-ALT-DESC;FMTTYPE=text/html:Walk through the Wildlife Sanctuary with USC Salkehatchie biology Professor Erin Kilpatrick.<br />\nEnjoy the beauty of our own Wildlife Sanctuary with the knowledge of Professor Kilpatrick as your guide!
LOCATION:The walk will begin at the DeTreville entrance of the Walterboro Wildlife Sanctuary
UID:e.528.474
SEQUENCE:3
DTSTAMP:20260422T111745Z
URL:https://business.colletonchamber.org/events/details/walk-through-the-wildlife-sanctuary-with-professor-erin-kilpatrick-03-09-2013-474
END:VEVENT

END:VCALENDAR
