BEGIN:VCALENDAR
VERSION:2.0
PRODID:-//ChamberMaster//Event Calendar 2.0//EN
METHOD:PUBLISH
X-PUBLISHED-TTL:P3D
REFRESH-INTERVAL:P3D
CALSCALE:GREGORIAN
BEGIN:VEVENT
DTSTART:20111204T230000Z
DTEND:20111205T000000Z
X-MICROSOFT-CDO-ALLDAYEVENT:FALSE
SUMMARY:Walterboro Christmas Parade
DESCRIPTION:Parade begins at the Colleton Center on Hampton Street\, up Hampton Street\, down Jefferies Blvd. to Washington\, down Washington to Neyle Street to Miller Street and back to the Colleton Center.
X-ALT-DESC;FMTTYPE=text/html:Parade begins at the Colleton Center on Hampton Street\, up Hampton Street\, down Jefferies Blvd. to Washington\, down Washington to Neyle Street to Miller Street and back to the Colleton Center.
LOCATION:Hampton Street\, Washington Street\, Jefferies Blvd\, Neyle Street and Miller Street
UID:e.528.314
SEQUENCE:3
DTSTAMP:20260423T083627Z
URL:https://business.colletonchamber.org/events/details/walterboro-christmas-parade-12-04-2011-314
END:VEVENT

END:VCALENDAR
