BEGIN:VCALENDAR
VERSION:2.0
PRODID:-//ChamberMaster//Event Calendar 2.0//EN
METHOD:PUBLISH
X-PUBLISHED-TTL:P3D
REFRESH-INTERVAL:P3D
CALSCALE:GREGORIAN
BEGIN:VEVENT
DTSTART:20101231T190000Z
DTEND:20101231T230000Z
X-MICROSOFT-CDO-ALLDAYEVENT:FALSE
SUMMARY:Walterboro Farmers Market - Friday
DESCRIPTION:Walterboro Farmers Market\n\n	\n\n	Buy local produce\, herbs\, plants\, eggs\, seafood\, handcrafted items\, take home dinners & more!\n\n	Visit special exhibits including: food preservation information by Clemson Extension\, Lawn & Garden Information by Master Gardeners\, and more
X-ALT-DESC;FMTTYPE=text/html:<p style="text-align: center">\n	<span style="font-family: comic sans ms"><span style="font-size: 16px">Walterboro Farmers Market</span></span></p>\n<p>\n	<br />\n	<span style="font-family: comic sans ms">Buy local produce\, herbs\, plants\, eggs\, seafood\, handcrafted items\, take home dinners &amp\; more!</span></p>\n<p>\n	<span style="font-family: comic sans ms">Visit special exhibits including: food preservation information by Clemson Extension\, Lawn &amp\; Garden Information by Master Gardeners\, and more</span></p>\n
LOCATION:Downtown Walterboro Parking Lot
UID:e.528.227
SEQUENCE:3
DTSTAMP:20260424T010650Z
URL:https://business.colletonchamber.org/events/details/walterboro-farmers-market-friday-12-31-2010-227
END:VEVENT

END:VCALENDAR
