BEGIN:VCALENDAR
VERSION:2.0
PRODID:-//ChamberMaster//Event Calendar 2.0//EN
METHOD:PUBLISH
X-PUBLISHED-TTL:P3D
REFRESH-INTERVAL:P3D
CALSCALE:GREGORIAN
BEGIN:VEVENT
DTSTART:20121116T150000Z
DTEND:20121117T220000Z
X-MICROSOFT-CDO-ALLDAYEVENT:FALSE
SUMMARY:Walterboro Holiday Open House
DESCRIPTION:
X-ALT-DESC;FMTTYPE=text/html:
LOCATION:Historic Downtown Walterboro and SC Artisans Center
UID:e.528.418
SEQUENCE:3
DTSTAMP:20260422T171212Z
URL:https://business.colletonchamber.org/events/details/walterboro-holiday-open-house-11-16-2012-418
END:VEVENT

END:VCALENDAR
