BEGIN:VCALENDAR
VERSION:2.0
PRODID:-//ChamberMaster//Event Calendar 2.0//EN
METHOD:PUBLISH
X-PUBLISHED-TTL:P3D
REFRESH-INTERVAL:P3D
CALSCALE:GREGORIAN
BEGIN:VEVENT
DTSTART;VALUE=DATE:20111119
DTEND;VALUE=DATE:20111120
TRANSP:TRANSPARENT
X-MICROSOFT-CDO-ALLDAYEVENT:TRUE
SUMMARY:Walterboro Holiday Open House
DESCRIPTION:The SC Artisans Center and Downtown Walterboro Holiday Open House is a great way to begin your holiday shopping.  Stores will have extended hours.
X-ALT-DESC;FMTTYPE=text/html:<p>\n	The SC Artisans Center and Downtown Walterboro Holiday Open House is a great way to begin your holiday shopping.&nbsp\; Stores will have extended hours.</p>\n
LOCATION:334 Wichman Street and Downtown Walterboro
UID:e.528.316
SEQUENCE:3
DTSTAMP:20260423T100258Z
URL:https://business.colletonchamber.org/events/details/walterboro-holiday-open-house-11-19-2011-316
END:VEVENT

END:VCALENDAR
