BEGIN:VCALENDAR
VERSION:2.0
PRODID:-//ChamberMaster//Event Calendar 2.0//EN
METHOD:PUBLISH
X-PUBLISHED-TTL:P3D
REFRESH-INTERVAL:P3D
CALSCALE:GREGORIAN
BEGIN:VEVENT
DTSTART:20120326T211500Z
DTEND:20120326T224500Z
X-MICROSOFT-CDO-ALLDAYEVENT:FALSE
SUMMARY:Walterboro Merchants Association Meeting
DESCRIPTION:
X-ALT-DESC;FMTTYPE=text/html:
LOCATION:246 East Washington Street (Anderson Antiques & Appraisals)
UID:e.528.346
SEQUENCE:3
DTSTAMP:20260423T042601Z
URL:https://business.colletonchamber.org/events/details/walterboro-merchants-association-meeting-03-26-2012-346
END:VEVENT

END:VCALENDAR
