BEGIN:VCALENDAR
VERSION:2.0
PRODID:-//ChamberMaster//Event Calendar 2.0//EN
METHOD:PUBLISH
X-PUBLISHED-TTL:P3D
REFRESH-INTERVAL:P3D
CALSCALE:GREGORIAN
BEGIN:VEVENT
DTSTART:20110305T233000Z
DTEND:20110306T020000Z
X-MICROSOFT-CDO-ALLDAYEVENT:FALSE
SUMMARY:Wild Game Cook Off
DESCRIPTION:3rd Annual\n\n	Wild Game Cook off\n\n	\n\n	Come out and Enjoy great food and fun!\n\n	\n\n	Proceeds support the Colleton County Arts Council
X-ALT-DESC;FMTTYPE=text/html:<p style="text-align: center">\n	<span style="font-size: 14px"><span style="font-family: comic sans ms">3rd Annual<br />\n	<span style="font-size: 18px">Wild Game Cook off<br />\n	<br />\n	Come out and Enjoy great food and fun!<br />\n	<br />\n	<span style="font-size: 12px">Proceeds support the Colleton County Arts Council</span></span></span></span></p>\n
LOCATION:Cottonwood Hall (just off of Highway 15)
UID:e.528.252
SEQUENCE:3
DTSTAMP:20260423T205222Z
URL:https://business.colletonchamber.org/events/details/wild-game-cook-off-03-05-2011-252
END:VEVENT

END:VCALENDAR
