BEGIN:VCALENDAR
VERSION:2.0
PRODID:-//ChamberMaster//Event Calendar 2.0//EN
METHOD:PUBLISH
X-PUBLISHED-TTL:P3D
REFRESH-INTERVAL:P3D
CALSCALE:GREGORIAN
BEGIN:VEVENT
DTSTART:20110423T140000Z
DTEND:20110423T180000Z
X-MICROSOFT-CDO-ALLDAYEVENT:FALSE
SUMMARY:Wings & Wheels
DESCRIPTION:free aircraft & car show
X-ALT-DESC;FMTTYPE=text/html:free aircraft &amp\; car show 
LOCATION:Lowcountry Regional Airport
UID:e.528.289
SEQUENCE:3
DTSTAMP:20260423T192744Z
URL:https://business.colletonchamber.org/events/details/wings-wheels-04-23-2011-289
END:VEVENT

END:VCALENDAR
