BEGIN:VCALENDAR
VERSION:2.0
PRODID:-//ChamberMaster//Event Calendar 2.0//EN
METHOD:PUBLISH
X-PUBLISHED-TTL:P3D
REFRESH-INTERVAL:P3D
CALSCALE:GREGORIAN
BEGIN:VEVENT
DTSTART:20101217T190000Z
DTEND:20101217T220000Z
X-MICROSOFT-CDO-ALLDAYEVENT:FALSE
SUMMARY:Winter Carnival
DESCRIPTION:WINTER CARNIVAL\n\n	Come let Santa's friends have fun with YOU\, with activities such as Face Painting\, Bracelet Making\, Games\, Wet Sponge throwing\, Fishing in Santa's workshop\, Ornament Making\, Pictures with Santa and Mrs. Claus\, And more! \n\n	All activities and snacks free with $5 admission. Special rates for groups of \n\n	 3 or more. \n\n	All Proceeds used to support Colleton Museum's ACE Venture Crew.\n\n	A youth community service organization.
X-ALT-DESC;FMTTYPE=text/html:<p style="text-align: center">\n	<span style="font-size: 48pt"><span style="color: black"><span style="font-family: castellar"><strong><span style="font-size: 36px">WINTER CARNIVAL</span></strong><br />\n	<span style="font-size: 14px"><span style="font-family: sylfaen">Come let Santa&rsquo\;s friends have fun with YOU\, with activities such as Face Painting\, Bracelet Making\, Games\, Wet Sponge throwing\, Fishing in Santa&rsquo\;s workshop\, Ornament Making\, Pictures with Santa and Mrs. Claus\, And more!&nbsp\;</span></span><br />\n	<span style="font-size: 14px"><span style="font-family: adobe garamond pro"><span style="font-family: times new roman">All activities and snacks free with $5 admission. Special rates for groups of </span></span><br />\n	<span style="font-family: adobe garamond pro"><span style="font-family: times new roman">&nbsp\;3 or more.&nbsp\;</span></span></span><br />\n	<span style="font-family: adobe garamond pro"><span style="font-family: times new roman"><span style="font-size: 14px"><span style="font-family: sylfaen">All Proceeds used to support Colleton Museum&rsquo\;s ACE Venture Crew.</span></span><br />\n	<span style="font-size: 18pt"><span style="color: black"><span style="font-family: sylfaen"><span style="font-size: 14px">A youth community service organization</span>.&nbsp\;&nbsp\;</span></span></span></span></span></span></span></span><br />\n	<br />\n	&nbsp\;</p>\n
LOCATION:Colleton Museum
UID:e.528.221
SEQUENCE:3
DTSTAMP:20260424T010129Z
URL:https://business.colletonchamber.org/events/details/winter-carnival-12-17-2010-221
END:VEVENT

END:VCALENDAR
