BEGIN:VCALENDAR
VERSION:2.0
PRODID:-//ChamberMaster//Event Calendar 2.0//EN
METHOD:PUBLISH
X-PUBLISHED-TTL:P3D
REFRESH-INTERVAL:P3D
CALSCALE:GREGORIAN
BEGIN:VEVENT
DTSTART:20101023T200000Z
DTEND:20101023T220000Z
X-MICROSOFT-CDO-ALLDAYEVENT:FALSE
SUMMARY:With These Hands Gallery/Edisto Belles - Benefit for Breast Cancer
DESCRIPTION:With These Hands Gallery is proud to partner with The Edisto Belles to host a rare special event to raise funds and awareness for the organization and to promote National Breast Cancer Awareness Month.  Three local Edisto artists including potter\, Nancy Fishback\; jeweler\, Merelyn Devers\;  and painter/poet Jayne Fort will be on-hand\, from 4   6pm on Saturday\, October\, 23 2010\, to share their artistic inspirations and visit with guests as they each unveil their newest "Think Pink" art pieces.
X-ALT-DESC;FMTTYPE=text/html:<p style="text-align: center">\n	<span style="font-size: 14px"><span style="font-family: comic sans ms"><font face="Times New Roman"><span style="font-style: italic\; font-weight: bold">With These Hands Gallery</span> is proud to partner with The Edisto Belles to host a rare special event to raise funds and awareness for the organization and to promote National Breast Cancer Awareness Month.&nbsp\; Three local </font></span></span><span style="font-family: comic sans ms"><font face="Times New Roman"><st1:place w:st="on"><span style="font-size: 14px">Edisto</span></st1:place><span style="font-size: 14px"> artists including potter\, Nancy Fishback\; jeweler\, Merelyn Devers\;&nbsp\; and painter/poet </span><st1:personname w:st="on"><span style="font-size: 14px">Jayne Fort</span></st1:personname><span style="font-size: 14px"> will be on-hand\, from 4 &ndash\; 6pm on Saturday\, October\, 23 2010\, to share their artistic inspirations and visit with guests as they each unveil their newest &ldquo\;Think Pink&rdquo\; art pieces.&nbsp\;&nbsp\;</span><span _fck_bookmark="1" style="display: none">&nbsp\;</span></font></span></p>\n
LOCATION:1444 Highway 174 Edisto Island\, SC
UID:e.528.212
SEQUENCE:3
DTSTAMP:20260424T032742Z
URL:https://business.colletonchamber.org/events/details/with-these-hands-gallery-edisto-belles-benefit-for-breast-cancer-10-23-2010-212
END:VEVENT

END:VCALENDAR
