BEGIN:VCALENDAR
VERSION:2.0
PRODID:-//ChamberMaster//Event Calendar 2.0//EN
METHOD:PUBLISH
X-PUBLISHED-TTL:P3D
REFRESH-INTERVAL:P3D
CALSCALE:GREGORIAN
BEGIN:VEVENT
DTSTART:20101212T170000Z
DTEND:20101212T210000Z
X-MICROSOFT-CDO-ALLDAYEVENT:FALSE
SUMMARY:With These Hands Gallery - Holiday Open House
DESCRIPTION:Join Us For Our 2nd Annual\n\n	\n\n	Holiday Open House\n\n	\n\n	Sip on Carolyn's famous eggnog and enjoy samples of our gourmet delights while finding everything you need for holiday decorating\, entertaining\, and unique gifts for everyone on your list!\n\n	Artist Discounts up to 50% off (one day only)\n\n	Door Prizes\n\n	Complimentary Gift Wrap\n\n	Shipping Available
X-ALT-DESC;FMTTYPE=text/html:<p style="text-align: center">\n	<span style="font-size: 18px"><span style="font-size: 22px"><span style="font-family: monotype corsiva"><span style="font-family: monotype corsiva">Join Us For Our 2<sup>nd</sup> Annual</span></span></span><br />\n	<br />\n	<span style="font-size: 20px"><strong><span style="font-family: monotype corsiva"><span style="font-weight: bold"><span style="font-family: monotype corsiva">Holiday </span></span></span></strong><strong><span style="font-family: monotype corsiva"><span style="font-weight: bold"><span style="font-family: monotype corsiva">Open House</span></span></span></strong></span><br />\n	<br />\n	<span style="font-family: monotype corsiva"><span style="font-family: monotype corsiva">Sip on Carolyn&rsquo\;s famous eggnog and enjoy samples of our gourmet delights while finding everything you need for holiday decorating\, entertaining\, and unique gifts for everyone on your list!</span></span><br />\n	<span style="font-family: monotype corsiva"><span style="font-family: monotype corsiva">Artist Discounts up to 50% off (one day only)</span></span><br />\n	<span style="font-family: monotype corsiva"><span style="font-family: monotype corsiva">Door Prizes</span></span><br />\n	<span style="font-family: monotype corsiva"><span style="font-family: monotype corsiva">Complimentary Gift Wrap</span></span><br />\n	<span style="font-family: monotype corsiva"><span style="font-family: monotype corsiva">Shipping Available&nbsp\;</span></span></span><br />\n	&nbsp\;</p>\n
LOCATION:1444 Highway 174 Edisto Island\, SC
UID:e.528.223
SEQUENCE:3
DTSTAMP:20260424T010436Z
URL:https://business.colletonchamber.org/events/details/with-these-hands-gallery-holiday-open-house-12-12-2010-223
END:VEVENT

END:VCALENDAR
