BEGIN:VCALENDAR
VERSION:2.0
PRODID:-//ChamberMaster//Event Calendar 2.0//EN
METHOD:PUBLISH
X-PUBLISHED-TTL:P3D
REFRESH-INTERVAL:P3D
CALSCALE:GREGORIAN
BEGIN:VEVENT
DTSTART:20230811T220000Z
DTEND:20230811T230000Z
X-MICROSOFT-CDO-ALLDAYEVENT:FALSE
SUMMARY:Women of Walterboro
DESCRIPTION:From businesswomen to politicians\, to historians\, mothers\, wives\, teachers\, and more--------this program by local scholar Elizabeth Laney will look at ten incredible women from Walterboro's history that everyone should know. We'll begin with Eliza Clitherall whose early 19th-century descriptions of Walterborotell us about a seasonal town with only around 20 families to Ivenia Brown\, one of the most well-known educators of the 20th century.\n\n\n\nOther featured figures will include Sophia Sanderson (Civil War veteran's wife)\, Claudia Stewart (early librarian and teacher)\, Mrs. W.A. Black (businesswoman)\, Rachel Waring Maree (businesswoman and single mother)\, Lucia Patterson (Walterboro's first woman elected to a public office)\, Beulah Glover (town historian)\, Rebecca Maree (journarlist/businesswoman)\, and Ameila Fraser (librarian).
X-ALT-DESC;FMTTYPE=text/html:From businesswomen to politicians\, to historians\, mothers\, wives\, teachers\, and more--------this program by local scholar Elizabeth Laney will look at ten incredible women from Walterboro&#39\;s history that everyone should know. We&#39\;ll begin with Eliza Clitherall whose early 19th-century descriptions of Walterborotell us about a seasonal town with only around 20 families to Ivenia Brown\, one of the most well-known educators of the 20th century.<br />\n<br />\nOther featured figures will include Sophia Sanderson (Civil War veteran&#39\;s wife)\, Claudia Stewart (early librarian and teacher)\, Mrs. W.A. Black (businesswoman)\, Rachel Waring Maree (businesswoman and single mother)\, Lucia Patterson (Walterboro&#39\;s first woman elected to a public office)\, Beulah Glover (town historian)\, Rebecca Maree (journarlist/businesswoman)\, and Ameila Fraser (librarian).
LOCATION:Colleton Museum and Farmers Market 506 E Washington Street Walterboro\, SC 29488
UID:e.528.2708
SEQUENCE:3
DTSTAMP:20260421T050329Z
URL:https://business.colletonchamber.org/events/details/women-of-walterboro-2708
END:VEVENT

END:VCALENDAR
