BEGIN:VCALENDAR
VERSION:2.0
PRODID:-//ChamberMaster//Event Calendar 2.0//EN
METHOD:PUBLISH
X-PUBLISHED-TTL:P3D
REFRESH-INTERVAL:P3D
CALSCALE:GREGORIAN
BEGIN:VEVENT
DTSTART:20110310T133000Z
DTEND:20110310T153000Z
X-MICROSOFT-CDO-ALLDAYEVENT:FALSE
SUMMARY:Working With NonProfit Boards
DESCRIPTION:Working With NonProfit Boards\n\n	\n\n	This is a series of workshops designed to help strengthen non-profit organizations.  The workshops are being offered by the Walterboro-Colleton Chamber of Commerce in partnership with Clemson's Institute on Economic and Community Development.\n\n	 \n\n	Conducted by Clemson Extension Agent Alta Mae Marvin\, the workshops will include: \n\n	 \n\n	Feb. 17        Effective Board Leadership\n\n	Feb. 24        Creating an Engaged Volunteer Workforce\n\n	Mar.  3        Marketing\, Public Relations\, & Social Media 101\n\n	Mar. 10       Sustainability is not just Fundraising
X-ALT-DESC;FMTTYPE=text/html:<p style="text-align: center">\n	<span style="font-family: times new roman"><span style="font-size: 20px">Working With NonProfit Boards<br />\n	<br />\n	<span style="font-size: 12pt"><span style="font-family: book antiqua\, serif">This is a series of workshops designed to help strengthen non-profit organizations.&nbsp\; The workshops are being offered by the Walterboro-Colleton Chamber of Commerce in partnership with Clemson&rsquo\;s Institute on Economic and Community Development.</span></span><br />\n	&nbsp\;<br />\n	<span style="font-size: 12pt"><span style="font-family: book antiqua\, serif">Conducted by Clemson Extension Agent Alta Mae Marvin\, the workshops will include:&nbsp\;</span></span></span></span><br />\n	&nbsp\;</p>\n<p>\n	<span style="font-family: times new roman"><span style="font-size: 20px"><span style="font-size: 12pt"><span style="font-family: book antiqua\, serif">Feb. 17&nbsp\;&nbsp\;&nbsp\;&nbsp\;&nbsp\;&nbsp\;&nbsp\;&nbsp\;Effective Board Leadership<br />\n	Feb. 24&nbsp\;&nbsp\;&nbsp\;&nbsp\;&nbsp\;&nbsp\;&nbsp\;&nbsp\;Creating an Engaged Volunteer Workforce<br />\n	Mar.&nbsp\; 3&nbsp\;&nbsp\;&nbsp\;&nbsp\;&nbsp\;&nbsp\;&nbsp\;&nbsp\;Marketing\, Public Relations\,&nbsp\;&amp\; Social Media 101<br />\n	Mar. 10&nbsp\;&nbsp\;&nbsp\;&nbsp\;&nbsp\;&nbsp\;&nbsp\;Sustainability is not just Fundraising</span></span></span></span><br />\n	&nbsp\;</p>\n<p>\n	<br />\n	&nbsp\;</p>\n
LOCATION:Clemson Extension Office 219 South Lemacks Street (Use the Black Street entrance to the Clemson Office)
UID:e.528.286
SEQUENCE:3
DTSTAMP:20260423T205422Z
URL:https://business.colletonchamber.org/events/details/working-with-nonprofit-boards-03-10-2011-286
END:VEVENT

END:VCALENDAR
